BEGIN:VCALENDAR
VERSION:2.0
PRODID:-//Squarespace Inc/Squarespace 6//v6//EN
BEGIN:VEVENT
UID:56518fb2e4b033f56d257a16@squarespace.com
DTSTAMP:20151122T095039Z
DTSTART:20151210T220000Z
DTEND:20151212T050000Z
SUMMARY:RAW Arts
END:VEVENT
END:VCALENDAR
